BEGIN:VCALENDAR
VERSION:2.0
PRODID:-//Site ARA - ECPv6.15.20//NONSGML v1.0//EN
CALSCALE:GREGORIAN
METHOD:PUBLISH
X-WR-CALNAME:Site ARA
X-ORIGINAL-URL:https://ara91.fr
X-WR-CALDESC:Évènements pour Site ARA
REFRESH-INTERVAL;VALUE=DURATION:PT1H
X-Robots-Tag:noindex
X-PUBLISHED-TTL:PT1H
BEGIN:VTIMEZONE
TZID:Europe/Paris
BEGIN:DAYLIGHT
TZOFFSETFROM:+0100
TZOFFSETTO:+0200
TZNAME:CEST
DTSTART:20240331T010000
END:DAYLIGHT
BEGIN:STANDARD
TZOFFSETFROM:+0200
TZOFFSETTO:+0100
TZNAME:CET
DTSTART:20241027T010000
END:STANDARD
BEGIN:DAYLIGHT
TZOFFSETFROM:+0100
TZOFFSETTO:+0200
TZNAME:CEST
DTSTART:20250330T010000
END:DAYLIGHT
BEGIN:STANDARD
TZOFFSETFROM:+0200
TZOFFSETTO:+0100
TZNAME:CET
DTSTART:20251026T010000
END:STANDARD
BEGIN:DAYLIGHT
TZOFFSETFROM:+0100
TZOFFSETTO:+0200
TZNAME:CEST
DTSTART:20260329T010000
END:DAYLIGHT
BEGIN:STANDARD
TZOFFSETFROM:+0200
TZOFFSETTO:+0100
TZNAME:CET
DTSTART:20261025T010000
END:STANDARD
END:VTIMEZONE
BEGIN:VEVENT
DTSTART;TZID=Europe/Paris:20250202T100000
DTEND;TZID=Europe/Paris:20250202T160000
DTSTAMP:20260419T160343
CREATED:20250123T162903Z
LAST-MODIFIED:20250123T165844Z
UID:4752-1738490400-1738512000@ara91.fr
SUMMARY:Bourse aquariophile de l'ARA
DESCRIPTION:
URL:https://ara91.fr/evenement/bourse-aquariophile-de-lara/
LOCATION:Gymnase J. Owens\, Ris-Orangis\, France
END:VEVENT
END:VCALENDAR