BEGIN:VCALENDAR
VERSION:2.0
PRODID:-//Site ARA - ECPv6.15.20//NONSGML v1.0//EN
CALSCALE:GREGORIAN
METHOD:PUBLISH
X-ORIGINAL-URL:https://ara91.fr
X-WR-CALDESC:Évènements pour Site ARA
REFRESH-INTERVAL;VALUE=DURATION:PT1H
X-Robots-Tag:noindex
X-PUBLISHED-TTL:PT1H
BEGIN:VTIMEZONE
TZID:Europe/Paris
BEGIN:DAYLIGHT
TZOFFSETFROM:+0100
TZOFFSETTO:+0200
TZNAME:CEST
DTSTART:20230326T010000
END:DAYLIGHT
BEGIN:STANDARD
TZOFFSETFROM:+0200
TZOFFSETTO:+0100
TZNAME:CET
DTSTART:20231029T010000
END:STANDARD
BEGIN:DAYLIGHT
TZOFFSETFROM:+0100
TZOFFSETTO:+0200
TZNAME:CEST
DTSTART:20240331T010000
END:DAYLIGHT
BEGIN:STANDARD
TZOFFSETFROM:+0200
TZOFFSETTO:+0100
TZNAME:CET
DTSTART:20241027T010000
END:STANDARD
BEGIN:DAYLIGHT
TZOFFSETFROM:+0100
TZOFFSETTO:+0200
TZNAME:CEST
DTSTART:20250330T010000
END:DAYLIGHT
BEGIN:STANDARD
TZOFFSETFROM:+0200
TZOFFSETTO:+0100
TZNAME:CET
DTSTART:20251026T010000
END:STANDARD
END:VTIMEZONE
BEGIN:VEVENT
DTSTART;TZID=Europe/Paris:20240515T200000
DTEND;TZID=Europe/Paris:20240515T230000
DTSTAMP:20260420T045417
CREATED:20231120T225038Z
LAST-MODIFIED:20240415T074344Z
UID:3513-1715803200-1715814000@ara91.fr
SUMMARY:Soirée à thème : Présentation des nouvelles espèces dans les bacs du local + échange de plantes
DESCRIPTION:
URL:https://ara91.fr/evenement/soiree-a-theme-a-definir-2/
LOCATION:Chalet des associations\, Ris-Orangis\, France
END:VEVENT
BEGIN:VEVENT
DTSTART;VALUE=DATE:20240519
DTEND;VALUE=DATE:20240520
DTSTAMP:20260420T045417
CREATED:20240415T075252Z
LAST-MODIFIED:20240415T075252Z
UID:4346-1716076800-1716163199@ara91.fr
SUMMARY:Concours international de Guppys
DESCRIPTION:Concours international de Guppys par couples à Trôo (41800). Covoiturage possible.
URL:https://ara91.fr/evenement/concours-international-de-guppys/
CATEGORIES:Bourse aquariophile
END:VEVENT
BEGIN:VEVENT
DTSTART;TZID=Europe/Paris:20240520T080000
DTEND;TZID=Europe/Paris:20240520T170000
DTSTAMP:20260420T045417
CREATED:20240505T173440Z
LAST-MODIFIED:20240505T173440Z
UID:4526-1716192000-1716224400@ara91.fr
SUMMARY:Visite de Discus Farm JDL France
DESCRIPTION:Discus Top qualité élevés en France
URL:https://ara91.fr/evenement/visite-de-discus-farm-jdl-france/
END:VEVENT
END:VCALENDAR