BEGIN:VCALENDAR
VERSION:2.0
PRODID:-//Site ARA - ECPv6.15.20//NONSGML v1.0//EN
CALSCALE:GREGORIAN
METHOD:PUBLISH
X-ORIGINAL-URL:https://ara91.fr
X-WR-CALDESC:Évènements pour Site ARA
REFRESH-INTERVAL;VALUE=DURATION:PT1H
X-Robots-Tag:noindex
X-PUBLISHED-TTL:PT1H
BEGIN:VTIMEZONE
TZID:Europe/Paris
BEGIN:DAYLIGHT
TZOFFSETFROM:+0100
TZOFFSETTO:+0200
TZNAME:CEST
DTSTART:20230326T010000
END:DAYLIGHT
BEGIN:STANDARD
TZOFFSETFROM:+0200
TZOFFSETTO:+0100
TZNAME:CET
DTSTART:20231029T010000
END:STANDARD
BEGIN:DAYLIGHT
TZOFFSETFROM:+0100
TZOFFSETTO:+0200
TZNAME:CEST
DTSTART:20240331T010000
END:DAYLIGHT
BEGIN:STANDARD
TZOFFSETFROM:+0200
TZOFFSETTO:+0100
TZNAME:CET
DTSTART:20241027T010000
END:STANDARD
BEGIN:DAYLIGHT
TZOFFSETFROM:+0100
TZOFFSETTO:+0200
TZNAME:CEST
DTSTART:20250330T010000
END:DAYLIGHT
BEGIN:STANDARD
TZOFFSETFROM:+0200
TZOFFSETTO:+0100
TZNAME:CET
DTSTART:20251026T010000
END:STANDARD
END:VTIMEZONE
BEGIN:VEVENT
DTSTART;VALUE=DATE:20240601
DTEND;VALUE=DATE:20240603
DTSTAMP:20260420T031928
CREATED:20240415T080035Z
LAST-MODIFIED:20240415T080035Z
UID:4348-1717200000-1717372799@ara91.fr
SUMMARY:Championnat de France Koïs
DESCRIPTION:Championnat de France Koïs à Saint-Quentin-sur-Nohain (58150) dans la Nièvre du 1er au 2 juin 2024. Covoiturage possible.
URL:https://ara91.fr/evenement/championnat-de-france-kois/
END:VEVENT
BEGIN:VEVENT
DTSTART;TZID=Europe/Paris:20240619T200000
DTEND;TZID=Europe/Paris:20240619T230000
DTSTAMP:20260420T031928
CREATED:20231120T225234Z
LAST-MODIFIED:20240415T073952Z
UID:3515-1718827200-1718838000@ara91.fr
SUMMARY:Soirée à thème : Les crevettes
DESCRIPTION:
URL:https://ara91.fr/evenement/soiree-a-theme-a-definir-3/
LOCATION:Chalet des associations\, Ris-Orangis\, France
CATEGORIES:Soirée à thème
END:VEVENT
END:VCALENDAR